BEGIN:VCALENDAR
VERSION:2.0
PRODID:-//Hickory Ridge Homeowners Association - ECPv6.15.20//NONSGML v1.0//EN
CALSCALE:GREGORIAN
METHOD:PUBLISH
X-WR-CALNAME:Hickory Ridge Homeowners Association
X-ORIGINAL-URL:https://www.hickoryridgecocoa.com
X-WR-CALDESC:Events for Hickory Ridge Homeowners Association
REFRESH-INTERVAL;VALUE=DURATION:PT1H
X-Robots-Tag:noindex
X-PUBLISHED-TTL:PT1H
BEGIN:VTIMEZONE
TZID:America/New_York
BEGIN:DAYLIGHT
TZOFFSETFROM:-0500
TZOFFSETTO:-0400
TZNAME:EDT
DTSTART:20240310T070000
END:DAYLIGHT
BEGIN:STANDARD
TZOFFSETFROM:-0400
TZOFFSETTO:-0500
TZNAME:EST
DTSTART:20241103T060000
END:STANDARD
BEGIN:DAYLIGHT
TZOFFSETFROM:-0500
TZOFFSETTO:-0400
TZNAME:EDT
DTSTART:20250309T070000
END:DAYLIGHT
BEGIN:STANDARD
TZOFFSETFROM:-0400
TZOFFSETTO:-0500
TZNAME:EST
DTSTART:20251102T060000
END:STANDARD
BEGIN:DAYLIGHT
TZOFFSETFROM:-0500
TZOFFSETTO:-0400
TZNAME:EDT
DTSTART:20260308T070000
END:DAYLIGHT
BEGIN:STANDARD
TZOFFSETFROM:-0400
TZOFFSETTO:-0500
TZNAME:EST
DTSTART:20261101T060000
END:STANDARD
BEGIN:DAYLIGHT
TZOFFSETFROM:-0500
TZOFFSETTO:-0400
TZNAME:EDT
DTSTART:20270314T070000
END:DAYLIGHT
BEGIN:STANDARD
TZOFFSETFROM:-0400
TZOFFSETTO:-0500
TZNAME:EST
DTSTART:20271107T060000
END:STANDARD
END:VTIMEZONE
BEGIN:VEVENT
DTSTART;TZID=America/New_York:20260730T180000
DTEND;TZID=America/New_York:20260730T190000
DTSTAMP:20260425T095630
CREATED:20251205T210619Z
LAST-MODIFIED:20260128T172814Z
UID:1353-1785434400-1785438000@www.hickoryridgecocoa.com
SUMMARY:Quarterly Meeting 7/30/26
DESCRIPTION:More Info Coming Soon
URL:https://www.hickoryridgecocoa.com/event/quarterly-meeting-2/
LOCATION:Cocoa Library\, 308 Forrest Ave\,\, Cocoa\, FL\, 32922\, United States
CATEGORIES:Meeting
ATTACH;FMTTYPE=image/jpeg:https://www.hickoryridgecocoa.com/wp-content/uploads/2025/12/Hickory_Ridge_BoardMtg1.jpg
END:VEVENT
BEGIN:VEVENT
DTSTART;TZID=America/New_York:20260620T080000
DTEND;TZID=America/New_York:20260620T130000
DTSTAMP:20260425T095630
CREATED:20260408T185605Z
LAST-MODIFIED:20260408T185605Z
UID:1951-1781942400-1781960400@www.hickoryridgecocoa.com
SUMMARY:Neighborhood Garage Sale- June 20\, 2026
DESCRIPTION:Join us for a fantastic garage sale right in our community!\nIt’s the perfect opportunity to find hidden treasures\, score amazing deals\, and support local sellers.\nSat\, June 20\n8:00 AM to 1:00 PM
URL:https://www.hickoryridgecocoa.com/event/neighborhood-garage-sale-june-20-2026/
LOCATION:Tupelo Circle\, Tupelo Circle\, Cocoa\, FL\, 32926\, United States
CATEGORIES:Social Event
ATTACH;FMTTYPE=image/jpeg:https://www.hickoryridgecocoa.com/wp-content/uploads/2026/04/Garage_Sale_2026_tn.jpg
END:VEVENT
BEGIN:VEVENT
DTSTART;TZID=America/New_York:20260331T180000
DTEND;TZID=America/New_York:20260331T190000
DTSTAMP:20260425T095630
CREATED:20251204T210407Z
LAST-MODIFIED:20260331T153022Z
UID:1347-1774980000-1774983600@www.hickoryridgecocoa.com
SUMMARY:Quarterly Meeting 3/31/26
DESCRIPTION:Hickory Ridge Association of Brevard\, Inc.\nBoard of Directors Meeting\nMarch 31\, 2026\n6:00 p.m.\nCocoa Public Library (Catherine Schweinsberg Rood Central Library)\n308 Forrest Avenue\, Cocoa\, FL 32922\nClick Here: ZOOM LINK\nPasscode: deKQh3\nAGENDA\n1. Call to Order \n2. Establishment of Quorum \n3. Approval of prior meeting minutes \n4. Financial Report \na. Sign rental \n5. Old Business \na. Website\nb. Failed proposed amendment to reduce vote to amend covenants\, etc. to majority from 2/3 of the membership \n6. New Business \n7. Date for next meeting – July 30\, 2026 @ 6:00 p.m. \n8. Owner’s Questions \n9. Adjournment
URL:https://www.hickoryridgecocoa.com/event/quarterly-meeting/
LOCATION:Cocoa Library\, 308 Forrest Ave\,\, Cocoa\, FL\, 32922\, United States
CATEGORIES:Meeting
ATTACH;FMTTYPE=image/jpeg:https://www.hickoryridgecocoa.com/wp-content/uploads/2025/12/Hickory_Ridge_BoardMtg1.jpg
END:VEVENT
BEGIN:VEVENT
DTSTART;TZID=America/New_York:20260129T180000
DTEND;TZID=America/New_York:20260129T190000
DTSTAMP:20260425T095630
CREATED:20251203T200540Z
LAST-MODIFIED:20260128T172755Z
UID:1337-1769709600-1769713200@www.hickoryridgecocoa.com
SUMMARY:Annual Meeting 1/29/26
DESCRIPTION:Hickory Ridge Association of Brevard Annual Meeting\nThursday\, January 29\, 2026\nCatherine Schweinsberg Rood Central Library\n308 Forest Ave\, Cocoa\, Fl 32922\n6:00 PM\nZoom Link\nView the Agenda (PDF)
URL:https://www.hickoryridgecocoa.com/event/annual-meeting/
LOCATION:Cocoa Library\, 308 Forrest Ave\,\, Cocoa\, FL\, 32922\, United States
CATEGORIES:Meeting
ATTACH;FMTTYPE=image/jpeg:https://www.hickoryridgecocoa.com/wp-content/uploads/2025/12/Hickory_Ridge_BoardMtg1.jpg
END:VEVENT
BEGIN:VEVENT
DTSTART;TZID=America/New_York:20251218T180000
DTEND;TZID=America/New_York:20251218T190000
DTSTAMP:20260425T095630
CREATED:20251204T220605Z
LAST-MODIFIED:20260109T212919Z
UID:1296-1766080800-1766084400@www.hickoryridgecocoa.com
SUMMARY:Budget/ Board Meeting 12/18/25
DESCRIPTION:More Info Coming Soon
URL:https://www.hickoryridgecocoa.com/event/budget-board-meeting/
LOCATION:Cocoa Library\, 308 Forrest Ave\,\, Cocoa\, FL\, 32922\, United States
CATEGORIES:Meeting
ATTACH;FMTTYPE=image/jpeg:https://www.hickoryridgecocoa.com/wp-content/uploads/2025/12/Hickory_Ridge_BoardMtg1.jpg
END:VEVENT
END:VCALENDAR